BEGIN:VCALENDAR
VERSION:2.0
PRODID:-//Impact 100 - ECPv6.15.20//NONSGML v1.0//EN
CALSCALE:GREGORIAN
METHOD:PUBLISH
X-WR-CALNAME:Impact 100
X-ORIGINAL-URL:https://www.impact100ir.com
X-WR-CALDESC:Events for Impact 100
REFRESH-INTERVAL;VALUE=DURATION:PT1H
X-Robots-Tag:noindex
X-PUBLISHED-TTL:PT1H
BEGIN:VTIMEZONE
TZID:UTC
BEGIN:STANDARD
TZOFFSETFROM:+0000
TZOFFSETTO:+0000
TZNAME:UTC
DTSTART:20240101T000000
END:STANDARD
END:VTIMEZONE
BEGIN:VTIMEZONE
TZID:America/New_York
BEGIN:DAYLIGHT
TZOFFSETFROM:-0500
TZOFFSETTO:-0400
TZNAME:EDT
DTSTART:20230312T070000
END:DAYLIGHT
BEGIN:STANDARD
TZOFFSETFROM:-0400
TZOFFSETTO:-0500
TZNAME:EST
DTSTART:20231105T060000
END:STANDARD
BEGIN:DAYLIGHT
TZOFFSETFROM:-0500
TZOFFSETTO:-0400
TZNAME:EDT
DTSTART:20240310T070000
END:DAYLIGHT
BEGIN:STANDARD
TZOFFSETFROM:-0400
TZOFFSETTO:-0500
TZNAME:EST
DTSTART:20241103T060000
END:STANDARD
BEGIN:DAYLIGHT
TZOFFSETFROM:-0500
TZOFFSETTO:-0400
TZNAME:EDT
DTSTART:20250309T070000
END:DAYLIGHT
BEGIN:STANDARD
TZOFFSETFROM:-0400
TZOFFSETTO:-0500
TZNAME:EST
DTSTART:20251102T060000
END:STANDARD
END:VTIMEZONE
BEGIN:VEVENT
DTSTART;TZID=UTC:20250416T160000
DTEND;TZID=UTC:20250416T180000
DTSTAMP:20260422T044804
CREATED:20241008T023051Z
LAST-MODIFIED:20250501T164109Z
UID:10000052-1744819200-1744826400@www.impact100ir.com
SUMMARY:Annual Meeting and Grant Awards Celebration
DESCRIPTION:Join us on April 16 for our Annual Meeting and Grant Awards Celebration. This is the culmination of our grant season starting with a social reception\, followed by presentations by our finalists\, voting by our members\, and awarding of the 2024-2025 grants.. \n\nDate: Wednesday\, April 16\, 2025\nLocation: Oak Harbor\nTime: 4 – 6 PM\nNew member recruiting event? No. This is a member-only event\nParking: Valet\n\nRegistration Opens March 16\, 2025 \n\nClick Here to Register!\n \nDiamond Sponsor\n \nGold Sponsor\n\n \nSilver Sponsors\nSuzanne Bertman\nWanda Lincoln
URL:https://www.impact100ir.com/event/annual-meeting-and-grant-awards-celebration/
LOCATION:Oak Harbor Club\, 4755 S. Harbor Dr.\, Vero Beach\, FL\, 32967\, United States
CATEGORIES:Mix and Mingle Event,Signature Event
ATTACH;FMTTYPE=image/png:https://www.impact100ir.com/wp-content/uploads/2024/10/Annual-Meeting-2025-1.png
END:VEVENT
BEGIN:VEVENT
DTSTART;TZID=America/New_York:20240417T160000
DTEND;TZID=America/New_York:20240417T180000
DTSTAMP:20260422T044804
CREATED:20230930T022002Z
LAST-MODIFIED:20240717T200253Z
UID:10000014-1713369600-1713376800@www.impact100ir.com
SUMMARY:Annual Meeting and Grant Award Celebration
DESCRIPTION:Register today for our Annual Meeting and Grant Award Celebration. This is the culmination and highlight of our grant season.  \n\nVENUE: Oak Harbor Club\nNEW TIME: 4:00-6:00 PM\nValet Parking\n\nWe want to thank our sponsors whose support helps to keep the cost down for our members who attend this event. \n  \n			\n									Register Now\n					\n			DIAMOND SPONSOR\n													\n			GOLD SPONSOR\n													\n			GOLD SPONSOR
URL:https://www.impact100ir.com/event/annual-meeting-and-grant-award-celebration/
LOCATION:Oak Harbor Club\, 4755 S. Harbor Dr.\, Vero Beach\, FL\, 32967\, United States
CATEGORIES:Signature Event
ATTACH;FMTTYPE=image/png:https://www.impact100ir.com/wp-content/uploads/2023/09/2-1.png
END:VEVENT
END:VCALENDAR